BEGIN:VCALENDAR
VERSION:2.0
PRODID:-// - ECPv6.15.20//NONSGML v1.0//EN
CALSCALE:GREGORIAN
METHOD:PUBLISH
X-ORIGINAL-URL:https://ugsel-finistere.org
X-WR-CALDESC:Évènements pour 
REFRESH-INTERVAL;VALUE=DURATION:PT1H
X-Robots-Tag:noindex
X-PUBLISHED-TTL:PT1H
BEGIN:VTIMEZONE
TZID:Europe/Paris
BEGIN:DAYLIGHT
TZOFFSETFROM:+0100
TZOFFSETTO:+0200
TZNAME:CEST
DTSTART:20250330T010000
END:DAYLIGHT
BEGIN:STANDARD
TZOFFSETFROM:+0200
TZOFFSETTO:+0100
TZNAME:CET
DTSTART:20251026T010000
END:STANDARD
BEGIN:DAYLIGHT
TZOFFSETFROM:+0100
TZOFFSETTO:+0200
TZNAME:CEST
DTSTART:20260329T010000
END:DAYLIGHT
BEGIN:STANDARD
TZOFFSETFROM:+0200
TZOFFSETTO:+0100
TZNAME:CET
DTSTART:20261025T010000
END:STANDARD
BEGIN:DAYLIGHT
TZOFFSETFROM:+0100
TZOFFSETTO:+0200
TZNAME:CEST
DTSTART:20270328T010000
END:DAYLIGHT
BEGIN:STANDARD
TZOFFSETFROM:+0200
TZOFFSETTO:+0100
TZNAME:CET
DTSTART:20271031T010000
END:STANDARD
END:VTIMEZONE
BEGIN:VEVENT
DTSTART;TZID=Europe/Paris:20260318T113000
DTEND;TZID=Europe/Paris:20260318T163000
DTSTAMP:20260421T130059
CREATED:20260303T100756Z
LAST-MODIFIED:20260303T101915Z
UID:10000223-1773833400-1773851400@ugsel-finistere.org
SUMMARY:Course d'orientation : départemental 29/56 à Hennebont
DESCRIPTION:Attention : inscriptions en ligne obligatoires et possibles via Usport – niveau Finistère –  avant lundi 16 mars – 23h00 \n\n\n\n\n\nCirculaire de l’Ugsel Morbihan
URL:https://ugsel-finistere.org/index.php/calendrier/course-dorientation-departemental-29-56-a-hennebont/
CATEGORIES:Course d'orientation
END:VEVENT
END:VCALENDAR